BEGIN:VCALENDAR
VERSION:2.0
PRODID:-//Golf de Faulquemont - ECPv5.6.0//NONSGML v1.0//EN
CALSCALE:GREGORIAN
METHOD:PUBLISH
X-WR-CALNAME:Golf de Faulquemont
X-ORIGINAL-URL:https://www.golf-faulquemont.com
X-WR-CALDESC:évènements pour Golf de Faulquemont
BEGIN:VTIMEZONE
TZID:Europe/Paris
BEGIN:DAYLIGHT
TZOFFSETFROM:+0100
TZOFFSETTO:+0200
TZNAME:CEST
DTSTART:20250330T010000
END:DAYLIGHT
BEGIN:STANDARD
TZOFFSETFROM:+0200
TZOFFSETTO:+0100
TZNAME:CET
DTSTART:20251026T010000
END:STANDARD
END:VTIMEZONE
BEGIN:VEVENT
DTSTART;TZID=Europe/Paris:20250710T080000
DTEND;TZID=Europe/Paris:20250710T170000
DTSTAMP:20260424T133226
CREATED:20250127T142516Z
LAST-MODIFIED:20250709T074749Z
UID:15814-1752134400-1752166800@www.golf-faulquemont.com
SUMMARY:TIS senior
DESCRIPTION:[vc_row][vc_column][vc_column_text] \nVOS DÉPARTS \npolos rouges pour Faulquemont\n[/vc_column_text][/vc_column][/vc_row]
URL:https://www.golf-faulquemont.com/evenement/tis-senior/
CATEGORIES:compétition,Séniors
ATTACH;FMTTYPE=image/jpeg:https://www.golf-faulquemont.com/wp-content/uploads/2025/06/TIS-SENIORS3-scaled.jpg
END:VEVENT
END:VCALENDAR