BEGIN:VCALENDAR
VERSION:2.0
PRODID:-//Golf de Faulquemont - ECPv5.6.0//NONSGML v1.0//EN
CALSCALE:GREGORIAN
METHOD:PUBLISH
X-WR-CALNAME:Golf de Faulquemont
X-ORIGINAL-URL:https://www.golf-faulquemont.com
X-WR-CALDESC:évènements pour Golf de Faulquemont
BEGIN:VTIMEZONE
TZID:Europe/Paris
BEGIN:DAYLIGHT
TZOFFSETFROM:+0100
TZOFFSETTO:+0200
TZNAME:CEST
DTSTART:20260329T010000
END:DAYLIGHT
BEGIN:STANDARD
TZOFFSETFROM:+0200
TZOFFSETTO:+0100
TZNAME:CET
DTSTART:20261025T010000
END:STANDARD
END:VTIMEZONE
BEGIN:VEVENT
DTSTART;TZID=Europe/Paris:20260426T080000
DTEND;TZID=Europe/Paris:20260426T170000
DTSTAMP:20260424T004411
CREATED:20260417T102922Z
LAST-MODIFIED:20260417T103035Z
UID:17064-1777190400-1777222800@www.golf-faulquemont.com
SUMMARY:Somabay World Cup & Classement
DESCRIPTION:[vc_row][vc_column][vc_column_text] \nPour vous inscrire rien de plus simple !!\nCliquez sur le lien ci-dessous 👇\nhttps://1245.rms9.fr/a9online/#/\nIl faut se connecter avec votre n° de licence et votre mot de passe FFG (application ffgolf / Kady / Myffgolf)\nA très bientôt sur les greens !\nL’équipe du Golf\n[/vc_column_text][/vc_column][/vc_row]
URL:https://www.golf-faulquemont.com/evenement/somabay-world-cup-classement-5/
CATEGORIES:compétition
ATTACH;FMTTYPE=image/png:https://www.golf-faulquemont.com/wp-content/uploads/2026/04/affiche-coupe-de-classement-biodiversite6.png
END:VEVENT
END:VCALENDAR