BEGIN:VCALENDAR
VERSION:2.0
PRODID:-//Golf de Faulquemont - ECPv5.6.0//NONSGML v1.0//EN
CALSCALE:GREGORIAN
METHOD:PUBLISH
X-WR-CALNAME:Golf de Faulquemont
X-ORIGINAL-URL:https://www.golf-faulquemont.com
X-WR-CALDESC:évènements pour Golf de Faulquemont
BEGIN:VTIMEZONE
TZID:Europe/Paris
BEGIN:DAYLIGHT
TZOFFSETFROM:+0100
TZOFFSETTO:+0200
TZNAME:CEST
DTSTART:20220327T010000
END:DAYLIGHT
BEGIN:STANDARD
TZOFFSETFROM:+0200
TZOFFSETTO:+0100
TZNAME:CET
DTSTART:20221030T010000
END:STANDARD
END:VTIMEZONE
BEGIN:VEVENT
DTSTART;TZID=Europe/Paris:20220530T080000
DTEND;TZID=Europe/Paris:20220602T170000
DTSTAMP:20260421T071315
CREATED:20220120T090646Z
LAST-MODIFIED:20220527T143506Z
UID:12593-1653897600-1654189200@www.golf-faulquemont.com
SUMMARY:Championnat de France UNSS
DESCRIPTION:[vc_row][vc_column][vc_column_text] \n\nLe golf de Faulquemont a été choisi pour accueillir les Championnats de France UNSS de Golf du mardi 31 mai au jeudi 2 juin 2022.Nous accueillerons donc 200 enfants compétiteurs à l’occasion de ces championnats.\nLe parcours 18 trous et le parcours compact seront mobilisés entièrement pour cette épreuve à partir du mardi 8h00 au jeudi 13h00.\nNous vous remercions pour votre compréhension.\nNous restons à votre disposition pour plus de renseignements.\nL’équipe du golf\n\n[/vc_column_text][/vc_column][/vc_row]
URL:https://www.golf-faulquemont.com/evenement/championnat-de-france-unss/
CATEGORIES:compétition
ATTACH;FMTTYPE=image/jpeg:https://www.golf-faulquemont.com/wp-content/uploads/2022/01/chpt-de-france-unss.jpg
END:VEVENT
END:VCALENDAR