BEGIN:VCALENDAR
VERSION:2.0
PRODID:-//Golf de Faulquemont - ECPv5.6.0//NONSGML v1.0//EN
CALSCALE:GREGORIAN
METHOD:PUBLISH
X-WR-CALNAME:Golf de Faulquemont
X-ORIGINAL-URL:https://www.golf-faulquemont.com
X-WR-CALDESC:évènements pour Golf de Faulquemont
BEGIN:VTIMEZONE
TZID:Europe/Paris
BEGIN:DAYLIGHT
TZOFFSETFROM:+0100
TZOFFSETTO:+0200
TZNAME:CEST
DTSTART:20210328T010000
END:DAYLIGHT
BEGIN:STANDARD
TZOFFSETFROM:+0200
TZOFFSETTO:+0100
TZNAME:CET
DTSTART:20211031T010000
END:STANDARD
END:VTIMEZONE
BEGIN:VEVENT
DTSTART;TZID=Europe/Paris:20211017T080000
DTEND;TZID=Europe/Paris:20211017T170000
DTSTAMP:20260419T144802
CREATED:20210924T132850Z
LAST-MODIFIED:20211019T080017Z
UID:12372-1634457600-1634490000@www.golf-faulquemont.com
SUMMARY:Coupe du Personnel
DESCRIPTION:[vc_row][vc_column width= »1/2″][vc_single_image image= »12388″ img_size= »full » alignment= »center » onclick= »img_link_large »][/vc_column][vc_column width= »1/2″][vc_single_image image= »12389″ img_size= »full » alignment= »center » onclick= »img_link_large »][/vc_column][/vc_row][vc_row][vc_column][vc_empty_space][vc_btn title= »VOS DEPARTS » color= »danger » size= »lg » align= »center » button_block= »true » link= »url:http%3A%2F%2Fwww.golf-faulquemont.com%2Fwp-content%2Fuploads%2F2021%2F10%2Fdeparts-coupe-du-personnel-2021.pdf|title:Departs%20coupe%20du%20personnel%202021|target:%20_blank| »][vc_empty_space][/vc_column][/vc_row][vc_row][vc_column][vc_column_text] \nRESULTATS DAMES\n[/vc_column_text][vc_btn title= »RESULTATS HOMMES » color= »primary » size= »lg » align= »center » button_block= »true » link= »url:http%3A%2F%2Fwww.golf-faulquemont.com%2Fwp-content%2Fuploads%2F2021%2F10%2Fresultats-coupe-du-personnel-2021.pdf|title:r%C3%A9sultats%20coupe%20du%20personnel%202021|target:%20_blank| »][vc_empty_space][/vc_column][/vc_row][vc_row][vc_column][vc_column_text] \nFélicitations à nos champions du Club\n  \nPatrice DALL’ANTONIA et Véronique WELKER \n[/vc_column_text][vc_column_text] \nUn grand merci à tous nos partenaires et à Patrice et Andréa DALL’ANTONIA pour leur contribution à notre Coupe du Personnel qui fût une très belle réussite !\nMerci également à tous les joueurs\, ainsi qu’aux pâtissiers et pâtissières pour leur participation!\n[/vc_column_text][vc_empty_space][vc_gallery images= »12442\,12443\,12444\,12445\,12446\,12447\,12448\,12449\,12450\,12451″ img_size= »large » columns= »5″][vc_empty_space][/vc_column][/vc_row][vc_row][vc_column][/vc_column][/vc_row]
URL:https://www.golf-faulquemont.com/evenement/coupe-du-personnel-3/
CATEGORIES:compétition
ATTACH;FMTTYPE=image/jpeg:https://www.golf-faulquemont.com/wp-content/uploads/2021/09/COUPE-DU-PERSO-2021.jpg
END:VEVENT
END:VCALENDAR