BEGIN:VCALENDAR
VERSION:2.0
PRODID:-//Golf de Faulquemont - ECPv5.6.0//NONSGML v1.0//EN
CALSCALE:GREGORIAN
METHOD:PUBLISH
X-WR-CALNAME:Golf de Faulquemont
X-ORIGINAL-URL:https://www.golf-faulquemont.com
X-WR-CALDESC:évènements pour Golf de Faulquemont
BEGIN:VTIMEZONE
TZID:Europe/Paris
BEGIN:DAYLIGHT
TZOFFSETFROM:+0100
TZOFFSETTO:+0200
TZNAME:CEST
DTSTART:20210328T010000
END:DAYLIGHT
BEGIN:STANDARD
TZOFFSETFROM:+0200
TZOFFSETTO:+0100
TZNAME:CET
DTSTART:20211031T010000
END:STANDARD
END:VTIMEZONE
BEGIN:VEVENT
DTSTART;TZID=Europe/Paris:20211010T080000
DTEND;TZID=Europe/Paris:20211010T170000
DTSTAMP:20260420T021728
CREATED:20210927T093010Z
LAST-MODIFIED:20211010T145301Z
UID:12384-1633852800-1633885200@www.golf-faulquemont.com
SUMMARY:Coupe de classement
DESCRIPTION:[vc_row][vc_column][vc_column_text] \nVOS DEPARTS\n[/vc_column_text][/vc_column][/vc_row][vc_row][vc_column][vc_btn title= »VOS RESULTATS  » color= »danger » size= »lg » align= »center » button_block= »true » link= »url:http%3A%2F%2Fwww.golf-faulquemont.com%2Fwp-content%2Fuploads%2F2021%2F10%2Fresultats-class-101021.pdf|title:RESULTATSCLASSEMENT%20101021|target:%20_blank| »][/vc_column][/vc_row]
URL:https://www.golf-faulquemont.com/evenement/coupe-de-classement-17/
CATEGORIES:compétition
ATTACH;FMTTYPE=image/png:https://www.golf-faulquemont.com/wp-content/uploads/2021/06/coupe-de-classement.png
END:VEVENT
END:VCALENDAR