BEGIN:VCALENDAR
VERSION:2.0
PRODID:-//Golf de Faulquemont - ECPv5.6.0//NONSGML v1.0//EN
CALSCALE:GREGORIAN
METHOD:PUBLISH
X-WR-CALNAME:Golf de Faulquemont
X-ORIGINAL-URL:https://www.golf-faulquemont.com
X-WR-CALDESC:évènements pour Golf de Faulquemont
BEGIN:VTIMEZONE
TZID:Europe/Paris
BEGIN:DAYLIGHT
TZOFFSETFROM:+0100
TZOFFSETTO:+0200
TZNAME:CEST
DTSTART:20260329T010000
END:DAYLIGHT
BEGIN:STANDARD
TZOFFSETFROM:+0200
TZOFFSETTO:+0100
TZNAME:CET
DTSTART:20261025T010000
END:STANDARD
END:VTIMEZONE
BEGIN:VEVENT
DTSTART;TZID=Europe/Paris:20260419T080000
DTEND;TZID=Europe/Paris:20260419T170000
DTSTAMP:20260424T004711
CREATED:20260226T125644Z
LAST-MODIFIED:20260420T081240Z
UID:16943-1776585600-1776618000@www.golf-faulquemont.com
SUMMARY:Somabay World Cup & Coupe de Classement
DESCRIPTION:[vc_row][vc_column][vc_empty_space][vc_single_image image= »16967″ img_size= »full » alignment= »center »][vc_empty_space][vc_column_text] \nPour vous inscrire rien de plus simple !!\nCliquez sur le lien ci-dessous \nIl faut se connecter avec votre n° de licence et votre mot de passe FFG (application ffgolf / Kady / Myffgolf)\nA très bientôt sur les greens !\nL’équipe du Golf\n[/vc_column_text][vc_empty_space][vc_btn title= »INSCRIPTION » color= »danger » size= »lg » align= »center » button_block= »true » link= »url:https%3A%2F%2F1245.rms9.fr%2Fa9online%2F%23%2F|title:inscription%20en%20ligne%20classement%20%20du%2019%20avril2026|target:%20_blank| »][vc_empty_space][vc_btn title= »VOS RÉSULTATS  » color= »primary » size= »lg » align= »center » button_block= »true » link= »url:https%3A%2F%2Fwww.golf-faulquemont.com%2Fwp-content%2Fuploads%2F2026%2F04%2F1a.-Resultats-nouveaux-index-37.pdf|title:r%C3%A9sultats%20190426|target:%20_blank| »][/vc_column][/vc_row]
URL:https://www.golf-faulquemont.com/evenement/somabay-world-cup-coupe-de-classement-2/
CATEGORIES:compétition
ATTACH;FMTTYPE=image/png:https://www.golf-faulquemont.com/wp-content/uploads/2026/02/affiche-coupe-de-classement-biodiversite1.png
END:VEVENT
END:VCALENDAR