BEGIN:VCALENDAR
VERSION:2.0
PRODID:-//Golf de Faulquemont - ECPv5.6.0//NONSGML v1.0//EN
CALSCALE:GREGORIAN
METHOD:PUBLISH
X-WR-CALNAME:Golf de Faulquemont
X-ORIGINAL-URL:https://www.golf-faulquemont.com
X-WR-CALDESC:évènements pour Golf de Faulquemont
BEGIN:VTIMEZONE
TZID:Europe/Paris
BEGIN:DAYLIGHT
TZOFFSETFROM:+0100
TZOFFSETTO:+0200
TZNAME:CEST
DTSTART:20250330T010000
END:DAYLIGHT
BEGIN:STANDARD
TZOFFSETFROM:+0200
TZOFFSETTO:+0100
TZNAME:CET
DTSTART:20251026T010000
END:STANDARD
END:VTIMEZONE
BEGIN:VEVENT
DTSTART;TZID=Europe/Paris:20251016T080000
DTEND;TZID=Europe/Paris:20251016T170000
DTSTAMP:20260424T075301
CREATED:20251012T123219Z
LAST-MODIFIED:20251017T071448Z
UID:16666-1760601600-1760634000@www.golf-faulquemont.com
SUMMARY:SENIORS DAY
DESCRIPTION:[vc_row][vc_column][vc_column_text] \nVOS RÉSULTATS \n[/vc_column_text][/vc_column][/vc_row]
URL:https://www.golf-faulquemont.com/evenement/seniors-day-14/
CATEGORIES:compétition
ATTACH;FMTTYPE=image/png:https://www.golf-faulquemont.com/wp-content/uploads/2025/07/Les-jeudis-des-seniors-A4-paysage.png
END:VEVENT
END:VCALENDAR