BEGIN:VCALENDAR
VERSION:2.0
PRODID:-//Golf de Faulquemont - ECPv5.6.0//NONSGML v1.0//EN
CALSCALE:GREGORIAN
METHOD:PUBLISH
X-WR-CALNAME:Golf de Faulquemont
X-ORIGINAL-URL:https://www.golf-faulquemont.com
X-WR-CALDESC:évènements pour Golf de Faulquemont
BEGIN:VTIMEZONE
TZID:Europe/Paris
BEGIN:DAYLIGHT
TZOFFSETFROM:+0100
TZOFFSETTO:+0200
TZNAME:CEST
DTSTART:20250330T010000
END:DAYLIGHT
BEGIN:STANDARD
TZOFFSETFROM:+0200
TZOFFSETTO:+0100
TZNAME:CET
DTSTART:20251026T010000
END:STANDARD
END:VTIMEZONE
BEGIN:VEVENT
DTSTART;TZID=Europe/Paris:20250724T080000
DTEND;TZID=Europe/Paris:20250724T170000
DTSTAMP:20260424T121602
CREATED:20250721T072405Z
LAST-MODIFIED:20250725T110136Z
UID:16404-1753344000-1753376400@www.golf-faulquemont.com
SUMMARY:SENIORS DAY
DESCRIPTION:[vc_row][vc_column][/vc_column][/vc_row][vc_row][vc_column][vc_btn title= »VOS RESULTATS » color= »primary » size= »lg » align= »center » button_block= »true » link= »url:https%3A%2F%2Fwww.golf-faulquemont.com%2Fwp-content%2Fuploads%2F2025%2F07%2F1b.-Resultats-sans-nouveaux-index-39.pdf|title:resultats%20seniors%20day%20240725|target:%20_blank| »][/vc_column][/vc_row][vc_row][vc_column][/vc_column][/vc_row]
URL:https://www.golf-faulquemont.com/evenement/seniors-day-9/
CATEGORIES:compétition
ATTACH;FMTTYPE=image/jpeg:https://www.golf-faulquemont.com/wp-content/uploads/2025/04/Les-jeudis-des-seniors-A4-paysage.jpg
END:VEVENT
END:VCALENDAR