BEGIN:VCALENDAR
VERSION:2.0
PRODID:-//Golf de Faulquemont - ECPv5.6.0//NONSGML v1.0//EN
CALSCALE:GREGORIAN
METHOD:PUBLISH
X-WR-CALNAME:Golf de Faulquemont
X-ORIGINAL-URL:https://www.golf-faulquemont.com
X-WR-CALDESC:évènements pour Golf de Faulquemont
BEGIN:VTIMEZONE
TZID:Europe/Paris
BEGIN:DAYLIGHT
TZOFFSETFROM:+0100
TZOFFSETTO:+0200
TZNAME:CEST
DTSTART:20250330T010000
END:DAYLIGHT
BEGIN:STANDARD
TZOFFSETFROM:+0200
TZOFFSETTO:+0100
TZNAME:CET
DTSTART:20251026T010000
END:STANDARD
END:VTIMEZONE
BEGIN:VEVENT
DTSTART;TZID=Europe/Paris:20250720T080000
DTEND;TZID=Europe/Paris:20250720T170000
DTSTAMP:20260424T115653
CREATED:20250206T140434Z
LAST-MODIFIED:20250721T072255Z
UID:15844-1752998400-1753030800@www.golf-faulquemont.com
SUMMARY:Coupe de Classement- Somabay World Cup
DESCRIPTION:[vc_row][vc_column][vc_btn title= »Règlement sportif » color= »danger » size= »lg » align= »center » link= »url:https%3A%2F%2Fwww.golf-faulquemont.com%2Fwp-content%2Fuploads%2F2025%2F02%2FReglement-Heritage-World-Cup-2025.pdf|title:Reglement%20SWC|target:%20_blank| »][/vc_column][/vc_row][vc_row][vc_column][vc_btn title= »DÉPARTS  » color= »warning » size= »lg » align= »center » css_animation= »slideInDown » button_block= »true » link= »url:https%3A%2F%2Fwww.golf-faulquemont.com%2Fwp-content%2Fuploads%2F2025%2F07%2F1a.-Departs-1-logo-98.pdf||| »][vc_empty_space][vc_btn title= »VOS RESULTATS » color= »danger » size= »lg » align= »center » button_block= »true » link= »url:https%3A%2F%2Fwww.golf-faulquemont.com%2Fwp-content%2Fuploads%2F2025%2F07%2F1b.-Resultats-sans-nouveaux-index-38.pdf|title:resutats%2020072025|target:%20_blank| »][/vc_column][/vc_row]
URL:https://www.golf-faulquemont.com/evenement/coupe-de-classement-somabay-world-cup-3/
CATEGORIES:compétition
ATTACH;FMTTYPE=image/png:https://www.golf-faulquemont.com/wp-content/uploads/2025/02/affiche-epreuve-SWC2.png
END:VEVENT
END:VCALENDAR