BEGIN:VCALENDAR
VERSION:2.0
PRODID:-//Golf de Faulquemont - ECPv5.6.0//NONSGML v1.0//EN
CALSCALE:GREGORIAN
METHOD:PUBLISH
X-WR-CALNAME:Golf de Faulquemont
X-ORIGINAL-URL:https://www.golf-faulquemont.com
X-WR-CALDESC:évènements pour Golf de Faulquemont
BEGIN:VTIMEZONE
TZID:Europe/Paris
BEGIN:DAYLIGHT
TZOFFSETFROM:+0100
TZOFFSETTO:+0200
TZNAME:CEST
DTSTART:20250330T010000
END:DAYLIGHT
BEGIN:STANDARD
TZOFFSETFROM:+0200
TZOFFSETTO:+0100
TZNAME:CET
DTSTART:20251026T010000
END:STANDARD
END:VTIMEZONE
BEGIN:VEVENT
DTSTART;TZID=Europe/Paris:20250705T080000
DTEND;TZID=Europe/Paris:20250705T170000
DTSTAMP:20260424T115853
CREATED:20250626T085628Z
LAST-MODIFIED:20250706T093935Z
UID:16319-1751702400-1751734800@www.golf-faulquemont.com
SUMMARY:TEAM CUP
DESCRIPTION:[vc_row][vc_column][vc_btn title= »VOS DÉPARTS  » color= »danger » size= »lg » align= »center » button_block= »true » link= »url:https%3A%2F%2Fwww.golf-faulquemont.com%2Fwp-content%2Fuploads%2F2025%2F07%2F1a.-Departs-1-logo-93.pdf|title:d%C3%A9parts%20team%20cup|target:%20_blank| »][vc_empty_space][vc_btn title= »VOS RESULTATS » color= »primary » size= »lg » align= »center » button_block= »true » link= »url:https%3A%2F%2Fwww.golf-faulquemont.com%2Fwp-content%2Fuploads%2F2025%2F07%2F1b.-Resultats-sans-nouveaux-index-36.pdf|title:resultats%20team%20cup%202025|target:%20_blank| »][/vc_column][/vc_row]
URL:https://www.golf-faulquemont.com/evenement/team-cup-2/
CATEGORIES:compétition
ATTACH;FMTTYPE=image/jpeg:https://www.golf-faulquemont.com/wp-content/uploads/2025/06/TEAM-CUP.jpg
END:VEVENT
END:VCALENDAR